Workbook
Name ammortization_schedule_end_year: 'Annual Amort. Sch.'!$C$10
Name ammortization_schedule_start_year: 'Annual Amort. Sch.'!$C$8
Name annual_home_insurance: 'Data Entry'!$Q$12
Name annual_homeowners_insurance_increasepercentage: 'Data Entry'!$C$10
Name annual_housing_appreciation_percentage: 'Data Entry'!$C$7
Name annual_interest_rate: 'Data Entry'!$F$13
Name annual_mortgage: 'Data Entry'!$Q$8
Name annual_pmi: 'Data Entry'!$Q$10
Name annual_property_tax_increase_percentage: 'Data Entry'!$C$8
Name annual_property_taxes: 'Data Entry'!$Q$11
Name annual_regular_maintenance: 'Data Entry'!$Q$9
Name annual_regular_maintenance_increase_percentage: 'Data Entry'!$C$9
Name annual_rent_increase: 'Data Entry'!$C$17
Name annual_routine_maintenance: 'Data Entry'!$Q$9
Name annual_stock_market_return: 'Data Entry'!$C$12
Name AnnualMorrisonExpenses: #REF!
Name appraisal_fee: 'Data Entry'!$J$10
Name CapGains_Perc: #REF!
Name cash_to_close: 'Data Entry'!$F$21
Name CashToClose: 'Annual Amort. Sch.'!#REF!
Name CashToClose: #REF!
Name credit_report_fee: 'Data Entry'!$J$11
Name cumulative_equity_y1: 'Annual Amort. Sch.'!$AI$17
Name cumulative_principal_y1: 'Annual Amort. Sch.'!$AG$17
Name down_payment_dollars: 'Data Entry'!$F$11
Name down_payment_percentage: 'Data Entry'!$F$10
Name Eric_C1: #REF!
Name Eric_C1_Contributions: #REF!
Name Eric_Fidelity: #REF!
Name Eric_Fidelity_Withdrawl: #REF!
Name ericsalary2025: #REF!
Name Ericworking2023?: #REF!
Name ericworking2025: #REF!
Name Expected_Raise: #REF!
Name flood_certificate_fee: 'Data Entry'!$J$12
Name Inflation: #REF!
Name loan_amount: 'Data Entry'!$F$12
Name loan_processing_fee: 'Data Entry'!$J$8
Name loan_term_years: 'Data Entry'!$F$9
Name mers_registration_fee: 'Data Entry'!$J$13
Name MITRE_A3: #REF!
Name MITRE_B1_Match: #REF!
Name MITREB1Match: #REF!
Name month_mortgage_paid_off: 'Data Entry'!$C$30
Name monthly_interest_rate: 'Data Entry'!$F$14
Name monthly_principal_and_interest: 'Data Entry'!$F$18
Name monthly_rental_cost: 'Data Entry'!$C$16
Name monthly_stock_market_return: 'Data Entry'!$C$13
Name other_closing_costs: 'Data Entry'!$I$24:$I$24
Name pmi_annual: 'Data Entry'!#REF!
Name pmi_percentage: 'Data Entry'!$F$16
Name pmi_until_percentage_equity: 'Data Entry'!$F$15
Name PP_PerYear: #REF!
Name purchase_price: 'Data Entry'!$F$8
Name purchase_year: 'Data Entry'!$F$7
Name Sara_C1: #REF!
Name Sara_C1_Contributions: #REF!
Name Saved_2024: '2025 Budget'!#REF!
Name Saved_2024: '2026 Budget (Rent 50)'!#REF!
Name Saved_2024: '2027 Budget'!#REF!

Sheet 2025 Budget
N2: =SUM(N5:N11)+SUM(O12:O16) -> 42400 | O2: =N2/12 -> 3533.3333
B3: Expense & Income Table | J3: 2025 Summary
B4: Type | C4: Frequency | D4: Planned Month | E4: Item | F4: Spending Category | G4: Expenditures | H4: Income | J4: Month | K4: Monthly Income | L4: One-Time Income | M4: Monthly Expenses | N4: Monthly Mortgage Expenses | O4: One-Time Rent Expense | P4: Monthly Non-Housing Expenses | Q4: One-Time Expenses | R4: Remaining
B5: Consistent | C5: Monthly | D5: All | E5: Amazon Subscription | F5: Shopping | G5: =139/12 -> 11.583333 | J5: January | K5: =SUMIFS(ItemizedBudget[Income],ItemizedBudget[Frequency],"Monthly",ItemizedBudget[Planned Month],"All") -> 13940.333 | L5: =SUMIFS(ItemizedBudget[Income],ItemizedBudget[Frequency],"One-Time",ItemizedBudget[Planned Month],J5) -> 15750 | M5: =SUMIFS(ItemizedBudget[Expenditures],ItemizedBudget[Frequency],"Monthly",ItemizedBudget[Planned Month],"All") -> 7555.7933 | N5: =SUMIFS(ItemizedBudget[Expenditures],ItemizedBudget[Spending Category],"Mortgage") -> 4450 | O5: =SUMIFS(ItemizedBudget[Expenditures],ItemizedBudget[Spending Category],"Rent - Outgoing",ItemizedBudget[Planned Month],J5) -> 0 | P5: =M5-(N5+O5) -> 3105.7933 | Q5: =SUMIFS(ItemizedBudget[Expenditures],ItemizedBudget[Frequency],"One-Time",ItemizedBudget[Planned Month],J5) -> 4600 | R5: =(K5+L5)-(M5+Q5+O5) -> 17534.54
B6: Consistent | C6: Monthly | D6: All | E6: Car Insurance & Umbrella | F6: Insurance | G6: 194.71 | J6: February | K6: =SUMIFS(ItemizedBudget[Income],ItemizedBudget[Frequency],"Monthly",ItemizedBudget[Planned Month],"All") -> 13940.333 | L6: =SUMIFS(ItemizedBudget[Income],ItemizedBudget[Frequency],"One-Time",ItemizedBudget[Planned Month],J6) -> 0 | M6: =SUMIFS(ItemizedBudget[Expenditures],ItemizedBudget[Frequency],"Monthly",ItemizedBudget[Planned Month],"All") -> 7555.7933 | N6: =SUMIFS(ItemizedBudget[Expenditures],ItemizedBudget[Spending Category],"Mortgage") -> 4450 | O6: =SUMIFS(ItemizedBudget[Expenditures],ItemizedBudget[Spending Category],"Rent - Outgoing",ItemizedBudget[Planned Month],J6) -> 0 | P6: =M6-(N6+O6) -> 3105.7933 | Q6: =SUMIFS(ItemizedBudget[Expenditures],ItemizedBudget[Frequency],"One-Time",ItemizedBudget[Planned Month],J6) -> 5700 | R6: =(K6+L6)-(M6+Q6+O6) -> 684.54 | T6: =SUMIFS(ItemizedBudget[Expenditures],ItemizedBudget[Item],"Rent: Outgoing",ItemizedBudget[Item],"Mortgage 50 Morrison",ItemizedBudget[Planned Month],J5) -> 0
B7: Consistent | C7: Monthly | D7: All | E7: Car Maintenance | F7: Automotive | G7: 100 | J7: March | K7: =SUMIFS(ItemizedBudget[Income],ItemizedBudget[Frequency],"Monthly",ItemizedBudget[Planned Month],"All") -> 13940.333 | L7: =SUMIFS(ItemizedBudget[Income],ItemizedBudget[Frequency],"One-Time",ItemizedBudget[Planned Month],J7) -> 0 | M7: =SUMIFS(ItemizedBudget[Expenditures],ItemizedBudget[Frequency],"Monthly",ItemizedBudget[Planned Month],"All") -> 7555.7933 | N7: =SUMIFS(ItemizedBudget[Expenditures],ItemizedBudget[Spending Category],"Mortgage") -> 4450 | O7: =SUMIFS(ItemizedBudget[Expenditures],ItemizedBudget[Spending Category],"Rent - Outgoing",ItemizedBudget[Planned Month],J7) -> 0 | P7: =M7-(N7+O7) -> 3105.7933 | Q7: =SUMIFS(ItemizedBudget[Expenditures],ItemizedBudget[Frequency],"One-Time",ItemizedBudget[Planned Month],J7) -> 4398 | R7: =(K7+L7)-(M7+Q7+O7) -> 1986.54
B8: Consistent | C8: Monthly | D8: All | E8: Cat Food | F8: Cat | G8: 100 | J8: April | K8: =SUMIFS(ItemizedBudget[Income],ItemizedBudget[Frequency],"Monthly",ItemizedBudget[Planned Month],"All") -> 13940.333 | L8: =SUMIFS(ItemizedBudget[Income],ItemizedBudget[Frequency],"One-Time",ItemizedBudget[Planned Month],J8) -> 5000 | M8: =SUMIFS(ItemizedBudget[Expenditures],ItemizedBudget[Frequency],"Monthly",ItemizedBudget[Planned Month],"All") -> 7555.7933 | N8: =SUMIFS(ItemizedBudget[Expenditures],ItemizedBudget[Spending Category],"Mortgage") -> 4450 | O8: =SUMIFS(ItemizedBudget[Expenditures],ItemizedBudget[Spending Category],"Rent - Outgoing",ItemizedBudget[Planned Month],J8) -> 0 | P8: =M8-(N8+O8) -> 3105.7933 | Q8: =SUMIFS(ItemizedBudget[Expenditures],ItemizedBudget[Frequency],"One-Time",ItemizedBudget[Planned Month],J8) -> 9000 | R8: =(K8+L8)-(M8+Q8+O8) -> 2384.54
B9: Consistent | C9: Monthly | D9: All | E9: Cat Litter | F9: Cat | G9: 25 | J9: May | K9: =SUMIFS(ItemizedBudget[Income],ItemizedBudget[Frequency],"Monthly",ItemizedBudget[Planned Month],"All") -> 13940.333 | L9: =SUMIFS(ItemizedBudget[Income],ItemizedBudget[Frequency],"One-Time",ItemizedBudget[Planned Month],J9) -> 0 | M9: =SUMIFS(ItemizedBudget[Expenditures],ItemizedBudget[Frequency],"Monthly",ItemizedBudget[Planned Month],"All") -> 7555.7933 | N9: =SUMIFS(ItemizedBudget[Expenditures],ItemizedBudget[Spending Category],"Mortgage") -> 4450 | O9: =SUMIFS(ItemizedBudget[Expenditures],ItemizedBudget[Spending Category],"Rent - Outgoing",ItemizedBudget[Planned Month],J9) -> 0 | P9: =M9-(N9+O9) -> 3105.7933 | Q9: =SUMIFS(ItemizedBudget[Expenditures],ItemizedBudget[Frequency],"One-Time",ItemizedBudget[Planned Month],J9) -> 0 | R9: =(K9+L9)-(M9+Q9+O9) -> 6384.54
B10: Consistent | C10: Monthly | D10: All | E10: Clothes & Shoes | F10: Shopping | G10: 200 | J10: June | K10: =SUMIFS(ItemizedBudget[Income],ItemizedBudget[Frequency],"Monthly",ItemizedBudget[Planned Month],"All") -> 13940.333 | L10: =SUMIFS(ItemizedBudget[Income],ItemizedBudget[Frequency],"One-Time",ItemizedBudget[Planned Month],J10) -> 0 | M10: =SUMIFS(ItemizedBudget[Expenditures],ItemizedBudget[Frequency],"Monthly",ItemizedBudget[Planned Month],"All") -> 7555.7933 | N10: =SUMIFS(ItemizedBudget[Expenditures],ItemizedBudget[Spending Category],"Mortgage") -> 4450 | O10: =SUMIFS(ItemizedBudget[Expenditures],ItemizedBudget[Spending Category],"Rent - Outgoing",ItemizedBudget[Planned Month],J10) -> 0 | P10: =M10-(N10+O10) -> 3105.7933 | Q10: =SUMIFS(ItemizedBudget[Expenditures],ItemizedBudget[Frequency],"One-Time",ItemizedBudget[Planned Month],J10) -> 4500 | R10: =(K10+L10)-(M10+Q10+O10) -> 1884.54
B11: Consistent | C11: Monthly | D11: All | E11: Deoderant | F11: Health | G11: 30 | J11: July | K11: =SUMIFS(ItemizedBudget[Income],ItemizedBudget[Frequency],"Monthly",ItemizedBudget[Planned Month],"All") -> 13940.333 | L11: =SUMIFS(ItemizedBudget[Income],ItemizedBudget[Frequency],"One-Time",ItemizedBudget[Planned Month],J11) -> 4400 | M11: =SUMIFS(ItemizedBudget[Expenditures],ItemizedBudget[Frequency],"Monthly",ItemizedBudget[Planned Month],"All") -> 7555.7933 | N11: =SUMIFS(ItemizedBudget[Expenditures],ItemizedBudget[Spending Category],"Mortgage") -> 4450 | O11: =SUMIFS(ItemizedBudget[Expenditures],ItemizedBudget[Spending Category],"Rent - Outgoing",ItemizedBudget[Planned Month],J11) -> 2250 | P11: =M11-(N11+O11) -> 855.79333 | Q11: =SUMIFS(ItemizedBudget[Expenditures],ItemizedBudget[Frequency],"One-Time",ItemizedBudget[Planned Month],J11) -> 2250 | R11: =(K11+L11)-(M11+Q11+O11) -> 6284.54
B12: Consistent | C12: Monthly | D12: All | E12: Electric | F12: Utilities | G12: 135 | J12: August | K12: =SUMIFS(ItemizedBudget[Income],ItemizedBudget[Frequency],"Monthly",ItemizedBudget[Planned Month],"All") -> 13940.333 | L12: =SUMIFS(ItemizedBudget[Income],ItemizedBudget[Frequency],"One-Time",ItemizedBudget[Planned Month],J12) -> 4400 | M12: =SUMIFS(ItemizedBudget[Expenditures],ItemizedBudget[Frequency],"Monthly",ItemizedBudget[Planned Month],"All") -> 7555.7933 | N12: =SUMIFS(ItemizedBudget[Expenditures],ItemizedBudget[Spending Category],"Mortgage") -> 4450 | O12: =SUMIFS(ItemizedBudget[Expenditures],ItemizedBudget[Spending Category],"Rent - Outgoing",ItemizedBudget[Planned Month],J12) -> 2250 | P12: =M12-(N12+O12) -> 855.79333 | Q12: =SUMIFS(ItemizedBudget[Expenditures],ItemizedBudget[Frequency],"One-Time",ItemizedBudget[Planned Month],J12) -> 6000 | R12: =(K12+L12)-(M12+Q12+O12) -> 2534.54
B13: Consistent | C13: Monthly | D13: All | E13: Eric - MITRE Takehome Income | F13: Job Income | G13: 0 | H13: =(2861*26)/12 -> 6198.8333 | J13: September | K13: =SUMIFS(ItemizedBudget[Income],ItemizedBudget[Frequency],"Monthly",ItemizedBudget[Planned Month],"All") -> 13940.333 | L13: =SUMIFS(ItemizedBudget[Income],ItemizedBudget[Frequency],"One-Time",ItemizedBudget[Planned Month],J13) -> 4400 | M13: =SUMIFS(ItemizedBudget[Expenditures],ItemizedBudget[Frequency],"Monthly",ItemizedBudget[Planned Month],"All") -> 7555.7933 | N13: =SUMIFS(ItemizedBudget[Expenditures],ItemizedBudget[Spending Category],"Mortgage") -> 4450 | O13: =SUMIFS(ItemizedBudget[Expenditures],ItemizedBudget[Spending Category],"Rent - Outgoing",ItemizedBudget[Planned Month],J13) -> 2250 | P13: =M13-(N13+O13) -> 855.79333 | Q13: =SUMIFS(ItemizedBudget[Expenditures],ItemizedBudget[Frequency],"One-Time",ItemizedBudget[Planned Month],J13) -> 2250 | R13: =(K13+L13)-(M13+Q13+O13) -> 6284.54
B14: Consistent | C14: Monthly | D14: All | E14: Exterminator | F14: Pest | G14: 39 | J14: October | K14: =SUMIFS(ItemizedBudget[Income],ItemizedBudget[Frequency],"Monthly",ItemizedBudget[Planned Month],"All") -> 13940.333 | L14: =SUMIFS(ItemizedBudget[Income],ItemizedBudget[Frequency],"One-Time",ItemizedBudget[Planned Month],J14) -> 4400 | M14: =SUMIFS(ItemizedBudget[Expenditures],ItemizedBudget[Frequency],"Monthly",ItemizedBudget[Planned Month],"All") -> 7555.7933 | N14: =SUMIFS(ItemizedBudget[Expenditures],ItemizedBudget[Spending Category],"Mortgage") -> 4450 | O14: =SUMIFS(ItemizedBudget[Expenditures],ItemizedBudget[Spending Category],"Rent - Outgoing",ItemizedBudget[Planned Month],J14) -> 2250 | P14: =M14-(N14+O14) -> 855.79333 | Q14: =SUMIFS(ItemizedBudget[Expenditures],ItemizedBudget[Frequency],"One-Time",ItemizedBudget[Planned Month],J14) -> 2250 | R14: =(K14+L14)-(M14+Q14+O14) -> 6284.54
B15: Consistent | C15: Monthly | D15: All | E15: Gas | F15: Gas | G15: 175 | J15: November | K15: =SUMIFS(ItemizedBudget[Income],ItemizedBudget[Frequency],"Monthly",ItemizedBudget[Planned Month],"All") -> 13940.333 | L15: =SUMIFS(ItemizedBudget[Income],ItemizedBudget[Frequency],"One-Time",ItemizedBudget[Planned Month],J15) -> 4400 | M15: =SUMIFS(ItemizedBudget[Expenditures],ItemizedBudget[Frequency],"Monthly",ItemizedBudget[Planned Month],"All") -> 7555.7933 | N15: =SUMIFS(ItemizedBudget[Expenditures],ItemizedBudget[Spending Category],"Mortgage") -> 4450 | O15: =SUMIFS(ItemizedBudget[Expenditures],ItemizedBudget[Spending Category],"Rent - Outgoing",ItemizedBudget[Planned Month],J15) -> 2250 | P15: =M15-(N15+O15) -> 855.79333 | Q15: =SUMIFS(ItemizedBudget[Expenditures],ItemizedBudget[Frequency],"One-Time",ItemizedBudget[Planned Month],J15) -> 3750 | R15: =(K15+L15)-(M15+Q15+O15) -> 4784.54
B16: Consistent | C16: Monthly | D16: All | E16: Groceries | F16: Groceries | G16: 600 | J16: December | K16: =SUMIFS(ItemizedBudget[Income],ItemizedBudget[Frequency],"Monthly",ItemizedBudget[Planned Month],"All") -> 13940.333 | L16: =SUMIFS(ItemizedBudget[Income],ItemizedBudget[Frequency],"One-Time",ItemizedBudget[Planned Month],J16) -> 4400 | M16: =SUMIFS(ItemizedBudget[Expenditures],ItemizedBudget[Frequency],"Monthly",ItemizedBudget[Planned Month],"All") -> 7555.7933 | N16: =SUMIFS(ItemizedBudget[Expenditures],ItemizedBudget[Spending Category],"Mortgage") -> 4450 | O16: =SUMIFS(ItemizedBudget[Expenditures],ItemizedBudget[Spending Category],"Rent - Outgoing",ItemizedBudget[Planned Month],J16) -> 2250 | P16: =M16-(N16+O16) -> 855.79333 | Q16: =SUMIFS(ItemizedBudget[Expenditures],ItemizedBudget[Frequency],"One-Time",ItemizedBudget[Planned Month],J16) -> 2800 | R16: =(K16+L16)-(M16+Q16+O16) -> 5734.54
B17: Consistent | C17: Monthly | D17: All | E17: Gym | F17: Health | G17: 30 | J17: Annual Total | K17: =SUM(K5:K16) -> 167284 | L17: =SUM(L5:L16) -> 47150 | M17: =SUM(M5:M16) -> 90669.52 | N17: =SUM(N5:N16) -> 53400 | O17: =SUM(O5:O16) -> 13500 | P17: =SUM(P5:P16) -> 23769.52 | Q17: =SUM(Q5:Q16) -> 47498 | R17: =SUM(R5:R16) -> 62766.48
B18: Consistent | C18: Monthly | D18: All | E18: Haircut | F18: Health | G18: =40/1.5 -> 26.666667
B19: Consistent | C19: Monthly | D19: All | E19: Home Improvement - Misc (4k/year) | F19: Miscellaneous | G19: 333 | J19: Frequency | K19: Category | L19: Expenditures | M19: Income | N19: Annual Expenditures | O19: Annual Income
B20: Consistent | C20: Monthly | D20: All | E20: Medical | F20: Health | G20: 150 | J20: =INDEX(ItemizedBudget[],MATCH(K20,ItemizedBudget[Spending Category],0),2) -> Monthly | K20: {=INDEX(ItemizedBudget[Spending Category], MATCH(0, COUNTIF($K$19:K19,ItemizedBudget[Spending Category]), 0))} -> Shopping | L20: =SUMIFS(ItemizedBudget[Expenditures],ItemizedBudget[Spending Category],K20) -> 211.58333 | M20: =SUMIFS(ItemizedBudget[Income],ItemizedBudget[Spending Category],K20) -> 0 | N20: =IF(J20="Monthly",12*L20,L20) -> 2539 | O20: =IF(J20="Monthly",12*M20,M20) -> 0
B21: Consistent | C21: Monthly | D21: All | E21: Miscellaneous | F21: Miscellaneous | G21: 350 | J21: =INDEX(ItemizedBudget[],MATCH(K21,ItemizedBudget[Spending Category],0),2) -> Monthly | K21: {=INDEX(ItemizedBudget[Spending Category], MATCH(0, COUNTIF($K$19:K20,ItemizedBudget[Spending Category]), 0))} -> Insurance | L21: =SUMIFS(ItemizedBudget[Expenditures],ItemizedBudget[Spending Category],K21) -> 194.71 | M21: =SUMIFS(ItemizedBudget[Income],ItemizedBudget[Spending Category],K21) -> 0 | N21: =IF(J21="Monthly",12*L21,L21) -> 2336.52 | O21: =IF(J21="Monthly",12*M21,M21) -> 0
B22: Consistent | C22: Monthly | D22: All | E22: Mortgage 50 Morrison | F22: Mortgage | G22: 4450 | J22: =INDEX(ItemizedBudget[],MATCH(K22,ItemizedBudget[Spending Category],0),2) -> Monthly | K22: {=INDEX(ItemizedBudget[Spending Category], MATCH(0, COUNTIF($K$19:K21,ItemizedBudget[Spending Category]), 0))} -> Automotive | L22: =SUMIFS(ItemizedBudget[Expenditures],ItemizedBudget[Spending Category],K22) -> 360 | M22: =SUMIFS(ItemizedBudget[Income],ItemizedBudget[Spending Category],K22) -> 15750 | N22: =IF(J22="Monthly",12*L22,L22) -> 4320 | O22: =IF(J22="Monthly",12*M22,M22) -> 189000
B23: Consistent | C23: Monthly | D23: All | E23: Nasal Spray | F23: Health | G23: 25 | J23: =INDEX(ItemizedBudget[],MATCH(K23,ItemizedBudget[Spending Category],0),2) -> Monthly | K23: {=INDEX(ItemizedBudget[Spending Category], MATCH(0, COUNTIF($K$19:K22,ItemizedBudget[Spending Category]), 0))} -> Cat | L23: =SUMIFS(ItemizedBudget[Expenditures],ItemizedBudget[Spending Category],K23) -> 1073 | M23: =SUMIFS(ItemizedBudget[Income],ItemizedBudget[Spending Category],K23) -> 0 | N23: =IF(J23="Monthly",12*L23,L23) -> 12876 | O23: =IF(J23="Monthly",12*M23,M23) -> 0
B24: Consistent | C24: Monthly | D24: All | E24: Phone Bill | F24: Phone | G24: 60 | J24: =INDEX(ItemizedBudget[],MATCH(K24,ItemizedBudget[Spending Category],0),2) -> Monthly | K24: {=INDEX(ItemizedBudget[Spending Category], MATCH(0, COUNTIF($K$19:K23,ItemizedBudget[Spending Category]), 0))} -> Health | L24: =SUMIFS(ItemizedBudget[Expenditures],ItemizedBudget[Spending Category],K24) -> 1537.5 | M24: =SUMIFS(ItemizedBudget[Income],ItemizedBudget[Spending Category],K24) -> 0 | N24: =IF(J24="Monthly",12*L24,L24) -> 18450 | O24: =IF(J24="Monthly",12*M24,M24) -> 0
B25: Consistent | C25: Monthly | D25: All | E25: Restaurant | F25: Restaurant | G25: 400 | J25: =INDEX(ItemizedBudget[],MATCH(K25,ItemizedBudget[Spending Category],0),2) -> Monthly | K25: {=INDEX(ItemizedBudget[Spending Category], MATCH(0, COUNTIF($K$19:K24,ItemizedBudget[Spending Category]), 0))} -> Utilities | L25: =SUMIFS(ItemizedBudget[Expenditures],ItemizedBudget[Spending Category],K25) -> 135 | M25: =SUMIFS(ItemizedBudget[Income],ItemizedBudget[Spending Category],K25) -> 0 | N25: =IF(J25="Monthly",12*L25,L25) -> 1620 | O25: =IF(J25="Monthly",12*M25,M25) -> 0
B26: Consistent | C26: Monthly | D26: All | E26: Sara - Fannie Mae Takehome Income | F26: Job Income | G26: 0 | H26: =(3573*26)/12 -> 7741.5 | J26: =INDEX(ItemizedBudget[],MATCH(K26,ItemizedBudget[Spending Category],0),2) -> Monthly | K26: {=INDEX(ItemizedBudget[Spending Category], MATCH(0, COUNTIF($K$19:K25,ItemizedBudget[Spending Category]), 0))} -> Job Income | L26: =SUMIFS(ItemizedBudget[Expenditures],ItemizedBudget[Spending Category],K26) -> 0 | M26: =SUMIFS(ItemizedBudget[Income],ItemizedBudget[Spending Category],K26) -> 13940.333 | N26: =IF(J26="Monthly",12*L26,L26) -> 0 | O26: =IF(J26="Monthly",12*M26,M26) -> 167284
B27: Consistent | C27: Monthly | D27: All | E27: Tolls | F27: Automotive | G27: 10 | J27: =INDEX(ItemizedBudget[],MATCH(K27,ItemizedBudget[Spending Category],0),2) -> Monthly | K27: {=INDEX(ItemizedBudget[Spending Category], MATCH(0, COUNTIF($K$19:K26,ItemizedBudget[Spending Category]), 0))} -> Pest | L27: =SUMIFS(ItemizedBudget[Expenditures],ItemizedBudget[Spending Category],K27) -> 39 | M27: =SUMIFS(ItemizedBudget[Income],ItemizedBudget[Spending Category],K27) -> 0 | N27: =IF(J27="Monthly",12*L27,L27) -> 468 | O27: =IF(J27="Monthly",12*M27,M27) -> 0
C28: Monthly | D28: All | E28: Trash | F28: Trash | G28: 35 | J28: =INDEX(ItemizedBudget[],MATCH(K28,ItemizedBudget[Spending Category],0),2) -> Monthly | K28: {=INDEX(ItemizedBudget[Spending Category], MATCH(0, COUNTIF($K$19:K27,ItemizedBudget[Spending Category]), 0))} -> Gas | L28: =SUMIFS(ItemizedBudget[Expenditures],ItemizedBudget[Spending Category],K28) -> 175 | M28: =SUMIFS(ItemizedBudget[Income],ItemizedBudget[Spending Category],K28) -> 0 | N28: =IF(J28="Monthly",12*L28,L28) -> 2100 | O28: =IF(J28="Monthly",12*M28,M28) -> 0
B29: Consistent | C29: Monthly | D29: All | E29: Vitamins | F29: Health | G29: 30 | J29: =INDEX(ItemizedBudget[],MATCH(K29,ItemizedBudget[Spending Category],0),2) -> Monthly | K29: {=INDEX(ItemizedBudget[Spending Category], MATCH(0, COUNTIF($K$19:K28,ItemizedBudget[Spending Category]), 0))} -> Groceries | L29: =SUMIFS(ItemizedBudget[Expenditures],ItemizedBudget[Spending Category],K29) -> 600 | M29: =SUMIFS(ItemizedBudget[Income],ItemizedBudget[Spending Category],K29) -> 0 | N29: =IF(J29="Monthly",12*L29,L29) -> 7200 | O29: =IF(J29="Monthly",12*M29,M29) -> 0
B30: Consistent | C30: Monthly | D30: All | E30: Yoga | F30: Health | G30: =275/6 -> 45.833333 | J30: =INDEX(ItemizedBudget[],MATCH(K30,ItemizedBudget[Spending Category],0),2) -> Monthly | K30: {=INDEX(ItemizedBudget[Spending Category], MATCH(0, COUNTIF($K$19:K29,ItemizedBudget[Spending Category]), 0))} -> Miscellaneous | L30: =SUMIFS(ItemizedBudget[Expenditures],ItemizedBudget[Spending Category],K30) -> 683 | M30: =SUMIFS(ItemizedBudget[Income],ItemizedBudget[Spending Category],K30) -> 0 | N30: =IF(J30="Monthly",12*L30,L30) -> 8196 | O30: =IF(J30="Monthly",12*M30,M30) -> 0
C31: One-Time | D31: January | E31: Bedroom Fans (2) | F31: Home Maintenance | G31: 300 | J31: =INDEX(ItemizedBudget[],MATCH(K31,ItemizedBudget[Spending Category],0),2) -> Monthly | K31: {=INDEX(ItemizedBudget[Spending Category], MATCH(0, COUNTIF($K$19:K30,ItemizedBudget[Spending Category]), 0))} -> Mortgage | L31: =SUMIFS(ItemizedBudget[Expenditures],ItemizedBudget[Spending Category],K31) -> 4450 | M31: =SUMIFS(ItemizedBudget[Income],ItemizedBudget[Spending Category],K31) -> 0 | N31: =IF(J31="Monthly",12*L31,L31) -> 53400 | O31: =IF(J31="Monthly",12*M31,M31) -> 0
C32: One-Time | D32: April | E32: Buckup Lift - Clean Side of House | F32: Home Maintenance | G32: 600 | J32: =INDEX(ItemizedBudget[],MATCH(K32,ItemizedBudget[Spending Category],0),2) -> Monthly | K32: {=INDEX(ItemizedBudget[Spending Category], MATCH(0, COUNTIF($K$19:K31,ItemizedBudget[Spending Category]), 0))} -> Phone | L32: =SUMIFS(ItemizedBudget[Expenditures],ItemizedBudget[Spending Category],K32) -> 60 | M32: =SUMIFS(ItemizedBudget[Income],ItemizedBudget[Spending Category],K32) -> 0 | N32: =IF(J32="Monthly",12*L32,L32) -> 720 | O32: =IF(J32="Monthly",12*M32,M32) -> 0
B33: Consistent | C33: One-Time | D33: November | E33: Car Undercoating | F33: Automotive | G33: 250 | J33: =INDEX(ItemizedBudget[],MATCH(K33,ItemizedBudget[Spending Category],0),2) -> Monthly | K33: {=INDEX(ItemizedBudget[Spending Category], MATCH(0, COUNTIF($K$19:K32,ItemizedBudget[Spending Category]), 0))} -> Restaurant | L33: =SUMIFS(ItemizedBudget[Expenditures],ItemizedBudget[Spending Category],K33) -> 400 | M33: =SUMIFS(ItemizedBudget[Income],ItemizedBudget[Spending Category],K33) -> 0 | N33: =IF(J33="Monthly",12*L33,L33) -> 4800 | O33: =IF(J33="Monthly",12*M33,M33) -> 0
B34: Consistent | C34: One-Time | D34: December | E34: Christmas Expenses | F34: Gifts | G34: 550 | J34: =INDEX(ItemizedBudget[],MATCH(K34,ItemizedBudget[Spending Category],0),2) -> Monthly | K34: {=INDEX(ItemizedBudget[Spending Category], MATCH(0, COUNTIF($K$19:K33,ItemizedBudget[Spending Category]), 0))} -> Trash | L34: =SUMIFS(ItemizedBudget[Expenditures],ItemizedBudget[Spending Category],K34) -> 35 | M34: =SUMIFS(ItemizedBudget[Income],ItemizedBudget[Spending Category],K34) -> 0 | N34: =IF(J34="Monthly",12*L34,L34) -> 420 | O34: =IF(J34="Monthly",12*M34,M34) -> 0
B35: Consistent | C35: One-Time | D35: March | E35: Contacts | F35: Health | G35: 1200 | J35: =INDEX(ItemizedBudget[],MATCH(K35,ItemizedBudget[Spending Category],0),2) -> One-Time | K35: {=INDEX(ItemizedBudget[Spending Category], MATCH(0, COUNTIF($K$19:K34,ItemizedBudget[Spending Category]), 0))} -> Home Maintenance | L35: =SUMIFS(ItemizedBudget[Expenditures],ItemizedBudget[Spending Category],K35) -> 25800 | M35: =SUMIFS(ItemizedBudget[Income],ItemizedBudget[Spending Category],K35) -> 0 | N35: =IF(J35="Monthly",12*L35,L35) -> 25800 | O35: =IF(J35="Monthly",12*M35,M35) -> 0
C36: One-Time | D36: June | E36: Couches | F36: Home Maintenance | G36: 500 | J36: =INDEX(ItemizedBudget[],MATCH(K36,ItemizedBudget[Spending Category],0),2) -> One-Time | K36: {=INDEX(ItemizedBudget[Spending Category], MATCH(0, COUNTIF($K$19:K35,ItemizedBudget[Spending Category]), 0))} -> Gifts | L36: =SUMIFS(ItemizedBudget[Expenditures],ItemizedBudget[Spending Category],K36) -> 550 | M36: =SUMIFS(ItemizedBudget[Income],ItemizedBudget[Spending Category],K36) -> 0 | N36: =IF(J36="Monthly",12*L36,L36) -> 550 | O36: =IF(J36="Monthly",12*M36,M36) -> 0
B37: Inconsistent | C37: One-Time | D37: April | E37: Deck | F37: Home Maintenance | G37: 7500 | J37: =INDEX(ItemizedBudget[],MATCH(K37,ItemizedBudget[Spending Category],0),2) -> One-Time | K37: {=INDEX(ItemizedBudget[Spending Category], MATCH(0, COUNTIF($K$19:K36,ItemizedBudget[Spending Category]), 0))} -> Home Heating | L37: =SUMIFS(ItemizedBudget[Expenditures],ItemizedBudget[Spending Category],K37) -> 2750 | M37: =SUMIFS(ItemizedBudget[Income],ItemizedBudget[Spending Category],K37) -> 0 | N37: =IF(J37="Monthly",12*L37,L37) -> 2750 | O37: =IF(J37="Monthly",12*M37,M37) -> 0
C38: One-Time | D38: November | E38: Fall Cleanup | F38: Home Maintenance | G38: 500 | J38: =INDEX(ItemizedBudget[],MATCH(K38,ItemizedBudget[Spending Category],0),2) -> One-Time | K38: {=INDEX(ItemizedBudget[Spending Category], MATCH(0, COUNTIF($K$19:K37,ItemizedBudget[Spending Category]), 0))} -> Rent - Incoming | L38: =SUMIFS(ItemizedBudget[Expenditures],ItemizedBudget[Spending Category],K38) -> 0 | M38: =SUMIFS(ItemizedBudget[Income],ItemizedBudget[Spending Category],K38) -> 26400 | N38: =IF(J38="Monthly",12*L38,L38) -> 0 | O38: =IF(J38="Monthly",12*M38,M38) -> 26400
C39: One-Time | D39: January | E39: Fire Alarm Devices | F39: Home Maintenance | G39: 350 | J39: =INDEX(ItemizedBudget[],MATCH(K39,ItemizedBudget[Spending Category],0),2) -> One-Time | K39: {=INDEX(ItemizedBudget[Spending Category], MATCH(0, COUNTIF($K$19:K38,ItemizedBudget[Spending Category]), 0))} -> Rent - Outgoing | L39: =SUMIFS(ItemizedBudget[Expenditures],ItemizedBudget[Spending Category],K39) -> 13500 | M39: =SUMIFS(ItemizedBudget[Income],ItemizedBudget[Spending Category],K39) -> 0 | N39: =IF(J39="Monthly",12*L39,L39) -> 13500 | O39: =IF(J39="Monthly",12*M39,M39) -> 0
C40: One-Time | D40: January | E40: Fire Alarms Electrician | F40: Home Maintenance | G40: 350 | J40: =INDEX(ItemizedBudget[],MATCH(K40,ItemizedBudget[Spending Category],0),2) -> One-Time | K40: {=INDEX(ItemizedBudget[Spending Category], MATCH(0, COUNTIF($K$19:K39,ItemizedBudget[Spending Category]), 0))} -> Tax Refund | L40: =SUMIFS(ItemizedBudget[Expenditures],ItemizedBudget[Spending Category],K40) -> 0 | M40: =SUMIFS(ItemizedBudget[Income],ItemizedBudget[Spending Category],K40) -> 5000
C41: One-Time | D41: January | E41: Flooring | F41: Home Maintenance | G41: 2250 | J41: =INDEX(ItemizedBudget[],MATCH(K41,ItemizedBudget[Spending Category],0),2) -> One-Time | K41: {=INDEX(ItemizedBudget[Spending Category], MATCH(0, COUNTIF($K$19:K40,ItemizedBudget[Spending Category]), 0))} -> Vacation | L41: =SUMIFS(ItemizedBudget[Expenditures],ItemizedBudget[Spending Category],K41) -> 2500 | M41: =SUMIFS(ItemizedBudget[Income],ItemizedBudget[Spending Category],K41) -> 0
...

Sheet 2026 Budget (Rent 50)
C2: Sara working 100%, no kids yet, cheaper mortgage | N2: =SUM(N5:N11)+SUM(O12:O16) -> 52850 | O2: =N2/12 -> 4404.1667
B3: Expense & Income Table | J3: 2025 Summary
B4: Type | C4: Frequency | D4: Planned Month | E4: Item | F4: Spending Category | G4: Expenditures | H4: Income | J4: Month | K4: Monthly Income | L4: One-Time Income | M4: Monthly Expenses | N4: Monthly Mortgage Expenses | O4: One-Time Rent Expense | P4: Monthly Non-Housing Expenses | Q4: One-Time Expenses | R4: Remaining
B5: Consistent | C5: Monthly | D5: All | E5: Car Maintenance | F5: Automotive | G5: 100 | J5: January | K5: =SUMIFS(ItemizedBudget14[Income],ItemizedBudget14[Frequency],"Monthly",ItemizedBudget14[Planned Month],"All") -> 18600 | L5: =SUMIFS(ItemizedBudget14[Income],ItemizedBudget14[Frequency],"One-Time",ItemizedBudget14[Planned Month],J5) -> 0 | M5: =SUMIFS(ItemizedBudget14[Expenditures],ItemizedBudget14[Frequency],"Monthly",ItemizedBudget14[Planned Month],"All") -> 10655.793 | N5: =SUMIFS(ItemizedBudget14[Expenditures],ItemizedBudget14[Spending Category],"Mortgage") -> 7550 | O5: =SUMIFS(ItemizedBudget14[Expenditures],ItemizedBudget14[Spending Category],"Rent - Outgoing",ItemizedBudget14[Planned Month],J5) -> 0 | P5: =M5-(N5+O5) -> 3105.7933 | Q5: =SUMIFS(ItemizedBudget14[Expenditures],ItemizedBudget14[Frequency],"One-Time",ItemizedBudget14[Planned Month],J5) -> 1500 | R5: =(K5+L5)-(M5+Q5+O5) -> 6444.2067
B6: Consistent | C6: Monthly | D6: All | E6: Tolls | F6: Automotive | G6: 10 | J6: February | K6: =SUMIFS(ItemizedBudget14[Income],ItemizedBudget14[Frequency],"Monthly",ItemizedBudget14[Planned Month],"All") -> 18600 | L6: =SUMIFS(ItemizedBudget14[Income],ItemizedBudget14[Frequency],"One-Time",ItemizedBudget14[Planned Month],J6) -> 0 | M6: =SUMIFS(ItemizedBudget14[Expenditures],ItemizedBudget14[Frequency],"Monthly",ItemizedBudget14[Planned Month],"All") -> 10655.793 | N6: =SUMIFS(ItemizedBudget14[Expenditures],ItemizedBudget14[Spending Category],"Mortgage") -> 7550 | O6: =SUMIFS(ItemizedBudget14[Expenditures],ItemizedBudget14[Spending Category],"Rent - Outgoing",ItemizedBudget14[Planned Month],J6) -> 0 | P6: =M6-(N6+O6) -> 3105.7933 | Q6: =SUMIFS(ItemizedBudget14[Expenditures],ItemizedBudget14[Frequency],"One-Time",ItemizedBudget14[Planned Month],J6) -> 0 | R6: =(K6+L6)-(M6+Q6+O6) -> 7944.2067 | T6: =SUMIFS(ItemizedBudget14[Expenditures],ItemizedBudget14[Item],"Rent: Outgoing",ItemizedBudget14[Item],"Mortgage 50 Morrison",ItemizedBudget14[Planned Month],J5) -> 0
B7: Consistent | C7: Monthly | D7: All | E7: Cat Food | F7: Cat | G7: 100 | J7: March | K7: =SUMIFS(ItemizedBudget14[Income],ItemizedBudget14[Frequency],"Monthly",ItemizedBudget14[Planned Month],"All") -> 18600 | L7: =SUMIFS(ItemizedBudget14[Income],ItemizedBudget14[Frequency],"One-Time",ItemizedBudget14[Planned Month],J7) -> 0 | M7: =SUMIFS(ItemizedBudget14[Expenditures],ItemizedBudget14[Frequency],"Monthly",ItemizedBudget14[Planned Month],"All") -> 10655.793 | N7: =SUMIFS(ItemizedBudget14[Expenditures],ItemizedBudget14[Spending Category],"Mortgage") -> 7550 | O7: =SUMIFS(ItemizedBudget14[Expenditures],ItemizedBudget14[Spending Category],"Rent - Outgoing",ItemizedBudget14[Planned Month],J7) -> 0 | P7: =M7-(N7+O7) -> 3105.7933 | Q7: =SUMIFS(ItemizedBudget14[Expenditures],ItemizedBudget14[Frequency],"One-Time",ItemizedBudget14[Planned Month],J7) -> 1548 | R7: =(K7+L7)-(M7+Q7+O7) -> 6396.2067
B8: Consistent | C8: Monthly | D8: All | E8: Cat Litter | F8: Cat | G8: 25 | J8: April | K8: =SUMIFS(ItemizedBudget14[Income],ItemizedBudget14[Frequency],"Monthly",ItemizedBudget14[Planned Month],"All") -> 18600 | L8: =SUMIFS(ItemizedBudget14[Income],ItemizedBudget14[Frequency],"One-Time",ItemizedBudget14[Planned Month],J8) -> 5000 | M8: =SUMIFS(ItemizedBudget14[Expenditures],ItemizedBudget14[Frequency],"Monthly",ItemizedBudget14[Planned Month],"All") -> 10655.793 | N8: =SUMIFS(ItemizedBudget14[Expenditures],ItemizedBudget14[Spending Category],"Mortgage") -> 7550 | O8: =SUMIFS(ItemizedBudget14[Expenditures],ItemizedBudget14[Spending Category],"Rent - Outgoing",ItemizedBudget14[Planned Month],J8) -> 0 | P8: =M8-(N8+O8) -> 3105.7933 | Q8: =SUMIFS(ItemizedBudget14[Expenditures],ItemizedBudget14[Frequency],"One-Time",ItemizedBudget14[Planned Month],J8) -> 3900 | R8: =(K8+L8)-(M8+Q8+O8) -> 9044.2067
B9: Consistent | C9: Monthly | D9: All | E9: Car Insurance & Umbrella | F9: Insurance | G9: 194.71 | J9: May | K9: =SUMIFS(ItemizedBudget14[Income],ItemizedBudget14[Frequency],"Monthly",ItemizedBudget14[Planned Month],"All") -> 18600 | L9: =SUMIFS(ItemizedBudget14[Income],ItemizedBudget14[Frequency],"One-Time",ItemizedBudget14[Planned Month],J9) -> 0 | M9: =SUMIFS(ItemizedBudget14[Expenditures],ItemizedBudget14[Frequency],"Monthly",ItemizedBudget14[Planned Month],"All") -> 10655.793 | N9: =SUMIFS(ItemizedBudget14[Expenditures],ItemizedBudget14[Spending Category],"Mortgage") -> 7550 | O9: =SUMIFS(ItemizedBudget14[Expenditures],ItemizedBudget14[Spending Category],"Rent - Outgoing",ItemizedBudget14[Planned Month],J9) -> 0 | P9: =M9-(N9+O9) -> 3105.7933 | Q9: =SUMIFS(ItemizedBudget14[Expenditures],ItemizedBudget14[Frequency],"One-Time",ItemizedBudget14[Planned Month],J9) -> 0 | R9: =(K9+L9)-(M9+Q9+O9) -> 7944.2067
B10: Consistent | C10: Monthly | D10: All | E10: Gas | F10: Gas | G10: 175 | J10: June | K10: =SUMIFS(ItemizedBudget14[Income],ItemizedBudget14[Frequency],"Monthly",ItemizedBudget14[Planned Month],"All") -> 18600 | L10: =SUMIFS(ItemizedBudget14[Income],ItemizedBudget14[Frequency],"One-Time",ItemizedBudget14[Planned Month],J10) -> 0 | M10: =SUMIFS(ItemizedBudget14[Expenditures],ItemizedBudget14[Frequency],"Monthly",ItemizedBudget14[Planned Month],"All") -> 10655.793 | N10: =SUMIFS(ItemizedBudget14[Expenditures],ItemizedBudget14[Spending Category],"Mortgage") -> 7550 | O10: =SUMIFS(ItemizedBudget14[Expenditures],ItemizedBudget14[Spending Category],"Rent - Outgoing",ItemizedBudget14[Planned Month],J10) -> 0 | P10: =M10-(N10+O10) -> 3105.7933 | Q10: =SUMIFS(ItemizedBudget14[Expenditures],ItemizedBudget14[Frequency],"One-Time",ItemizedBudget14[Planned Month],J10) -> 1500 | R10: =(K10+L10)-(M10+Q10+O10) -> 6444.2067
B11: Consistent | C11: Monthly | D11: All | E11: Groceries | F11: Groceries | G11: 600 | J11: July | K11: =SUMIFS(ItemizedBudget14[Income],ItemizedBudget14[Frequency],"Monthly",ItemizedBudget14[Planned Month],"All") -> 18600 | L11: =SUMIFS(ItemizedBudget14[Income],ItemizedBudget14[Frequency],"One-Time",ItemizedBudget14[Planned Month],J11) -> 0 | M11: =SUMIFS(ItemizedBudget14[Expenditures],ItemizedBudget14[Frequency],"Monthly",ItemizedBudget14[Planned Month],"All") -> 10655.793 | N11: =SUMIFS(ItemizedBudget14[Expenditures],ItemizedBudget14[Spending Category],"Mortgage") -> 7550 | O11: =SUMIFS(ItemizedBudget14[Expenditures],ItemizedBudget14[Spending Category],"Rent - Outgoing",ItemizedBudget14[Planned Month],J11) -> 0 | P11: =M11-(N11+O11) -> 3105.7933 | Q11: =SUMIFS(ItemizedBudget14[Expenditures],ItemizedBudget14[Frequency],"One-Time",ItemizedBudget14[Planned Month],J11) -> 0 | R11: =(K11+L11)-(M11+Q11+O11) -> 7944.2067
B12: Consistent | C12: Monthly | D12: All | E12: Gym | F12: Health | G12: 30 | J12: August | K12: =SUMIFS(ItemizedBudget14[Income],ItemizedBudget14[Frequency],"Monthly",ItemizedBudget14[Planned Month],"All") -> 18600 | L12: =SUMIFS(ItemizedBudget14[Income],ItemizedBudget14[Frequency],"One-Time",ItemizedBudget14[Planned Month],J12) -> 0 | M12: =SUMIFS(ItemizedBudget14[Expenditures],ItemizedBudget14[Frequency],"Monthly",ItemizedBudget14[Planned Month],"All") -> 10655.793 | N12: =SUMIFS(ItemizedBudget14[Expenditures],ItemizedBudget14[Spending Category],"Mortgage") -> 7550 | O12: =SUMIFS(ItemizedBudget14[Expenditures],ItemizedBudget14[Spending Category],"Rent - Outgoing",ItemizedBudget14[Planned Month],J12) -> 0 | P12: =M12-(N12+O12) -> 3105.7933 | Q12: =SUMIFS(ItemizedBudget14[Expenditures],ItemizedBudget14[Frequency],"One-Time",ItemizedBudget14[Planned Month],J12) -> 1750 | R12: =(K12+L12)-(M12+Q12+O12) -> 6194.2067
B13: Consistent | C13: Monthly | D13: All | E13: Yoga | F13: Health | G13: =275/6 -> 45.833333 | J13: September | K13: =SUMIFS(ItemizedBudget14[Income],ItemizedBudget14[Frequency],"Monthly",ItemizedBudget14[Planned Month],"All") -> 18600 | L13: =SUMIFS(ItemizedBudget14[Income],ItemizedBudget14[Frequency],"One-Time",ItemizedBudget14[Planned Month],J13) -> 0 | M13: =SUMIFS(ItemizedBudget14[Expenditures],ItemizedBudget14[Frequency],"Monthly",ItemizedBudget14[Planned Month],"All") -> 10655.793 | N13: =SUMIFS(ItemizedBudget14[Expenditures],ItemizedBudget14[Spending Category],"Mortgage") -> 7550 | O13: =SUMIFS(ItemizedBudget14[Expenditures],ItemizedBudget14[Spending Category],"Rent - Outgoing",ItemizedBudget14[Planned Month],J13) -> 0 | P13: =M13-(N13+O13) -> 3105.7933 | Q13: =SUMIFS(ItemizedBudget14[Expenditures],ItemizedBudget14[Frequency],"One-Time",ItemizedBudget14[Planned Month],J13) -> 0 | R13: =(K13+L13)-(M13+Q13+O13) -> 7944.2067
B14: Consistent | C14: Monthly | D14: All | E14: Vitamins | F14: Health | G14: 30 | J14: October | K14: =SUMIFS(ItemizedBudget14[Income],ItemizedBudget14[Frequency],"Monthly",ItemizedBudget14[Planned Month],"All") -> 18600 | L14: =SUMIFS(ItemizedBudget14[Income],ItemizedBudget14[Frequency],"One-Time",ItemizedBudget14[Planned Month],J14) -> 0 | M14: =SUMIFS(ItemizedBudget14[Expenditures],ItemizedBudget14[Frequency],"Monthly",ItemizedBudget14[Planned Month],"All") -> 10655.793 | N14: =SUMIFS(ItemizedBudget14[Expenditures],ItemizedBudget14[Spending Category],"Mortgage") -> 7550 | O14: =SUMIFS(ItemizedBudget14[Expenditures],ItemizedBudget14[Spending Category],"Rent - Outgoing",ItemizedBudget14[Planned Month],J14) -> 0 | P14: =M14-(N14+O14) -> 3105.7933 | Q14: =SUMIFS(ItemizedBudget14[Expenditures],ItemizedBudget14[Frequency],"One-Time",ItemizedBudget14[Planned Month],J14) -> 0 | R14: =(K14+L14)-(M14+Q14+O14) -> 7944.2067
B15: Consistent | C15: Monthly | D15: All | E15: Deoderant | F15: Health | G15: 30 | J15: November | K15: =SUMIFS(ItemizedBudget14[Income],ItemizedBudget14[Frequency],"Monthly",ItemizedBudget14[Planned Month],"All") -> 18600 | L15: =SUMIFS(ItemizedBudget14[Income],ItemizedBudget14[Frequency],"One-Time",ItemizedBudget14[Planned Month],J15) -> 0 | M15: =SUMIFS(ItemizedBudget14[Expenditures],ItemizedBudget14[Frequency],"Monthly",ItemizedBudget14[Planned Month],"All") -> 10655.793 | N15: =SUMIFS(ItemizedBudget14[Expenditures],ItemizedBudget14[Spending Category],"Mortgage") -> 7550 | O15: =SUMIFS(ItemizedBudget14[Expenditures],ItemizedBudget14[Spending Category],"Rent - Outgoing",ItemizedBudget14[Planned Month],J15) -> 0 | P15: =M15-(N15+O15) -> 3105.7933 | Q15: =SUMIFS(ItemizedBudget14[Expenditures],ItemizedBudget14[Frequency],"One-Time",ItemizedBudget14[Planned Month],J15) -> 750 | R15: =(K15+L15)-(M15+Q15+O15) -> 7194.2067
B16: Consistent | C16: Monthly | D16: All | E16: Nasal Spray | F16: Health | G16: 25 | J16: December | K16: =SUMIFS(ItemizedBudget14[Income],ItemizedBudget14[Frequency],"Monthly",ItemizedBudget14[Planned Month],"All") -> 18600 | L16: =SUMIFS(ItemizedBudget14[Income],ItemizedBudget14[Frequency],"One-Time",ItemizedBudget14[Planned Month],J16) -> 0 | M16: =SUMIFS(ItemizedBudget14[Expenditures],ItemizedBudget14[Frequency],"Monthly",ItemizedBudget14[Planned Month],"All") -> 10655.793 | N16: =SUMIFS(ItemizedBudget14[Expenditures],ItemizedBudget14[Spending Category],"Mortgage") -> 7550 | O16: =SUMIFS(ItemizedBudget14[Expenditures],ItemizedBudget14[Spending Category],"Rent - Outgoing",ItemizedBudget14[Planned Month],J16) -> 0 | P16: =M16-(N16+O16) -> 3105.7933 | Q16: =SUMIFS(ItemizedBudget14[Expenditures],ItemizedBudget14[Frequency],"One-Time",ItemizedBudget14[Planned Month],J16) -> 550 | R16: =(K16+L16)-(M16+Q16+O16) -> 7394.2067
B17: Consistent | C17: Monthly | D17: All | E17: Medical | F17: Health | G17: 150 | J17: Annual Total | K17: =SUM(K5:K16) -> 223200 | L17: =SUM(L5:L16) -> 5000 | M17: =SUM(M5:M16) -> 127869.52 | N17: =SUM(N5:N16) -> 90600 | O17: =SUM(O5:O16) -> 0 | P17: =SUM(P5:P16) -> 37269.52 | Q17: =SUM(Q5:Q16) -> 11498 | R17: =SUM(R5:R16) -> 88832.48
B18: Consistent | C18: Monthly | D18: All | E18: Haircut | F18: Health | G18: =40/1.5 -> 26.666667
B19: Consistent | C19: Monthly | D19: All | E19: Exterminator | F19: Pest | G19: 39 | J19: Frequency | K19: Category | L19: Expenditures | M19: Income | N19: Annual Expenditures | O19: Annual Income
B20: Consistent | C20: Monthly | D20: All | E20: Home Improvement - Misc (4k/year) | F20: Miscellaneous | G20: 333 | J20: =INDEX(ItemizedBudget14[],MATCH(K20,ItemizedBudget14[Spending Category],0),2) -> Monthly | K20: {=INDEX(ItemizedBudget14[Spending Category], MATCH(0, COUNTIF($K$19:K19,ItemizedBudget14[Spending Category]), 0))} -> Automotive | L20: =SUMIFS(ItemizedBudget14[Expenditures],ItemizedBudget14[Spending Category],K20) -> 360 | M20: =SUMIFS(ItemizedBudget14[Income],ItemizedBudget14[Spending Category],K20) -> 0 | N20: =IF(J20="Monthly",12*L20,L20) -> 4320 | O20: =IF(J20="Monthly",12*M20,M20) -> 0
B21: Consistent | C21: Monthly | D21: All | E21: Eric - MITRE Takehome Income | F21: Job Income | G21: 0 | H21: 6400 | J21: =INDEX(ItemizedBudget14[],MATCH(K21,ItemizedBudget14[Spending Category],0),2) -> Monthly | K21: {=INDEX(ItemizedBudget14[Spending Category], MATCH(0, COUNTIF($K$19:K20,ItemizedBudget14[Spending Category]), 0))} -> Cat | L21: =SUMIFS(ItemizedBudget14[Expenditures],ItemizedBudget14[Spending Category],K21) -> 1073 | M21: =SUMIFS(ItemizedBudget14[Income],ItemizedBudget14[Spending Category],K21) -> 0 | N21: =IF(J21="Monthly",12*L21,L21) -> 12876 | O21: =IF(J21="Monthly",12*M21,M21) -> 0
B22: Consistent | C22: Monthly | D22: All | E22: Sara - Fannie Mae Takehome Income | F22: Job Income | G22: 0 | H22: 7800 | J22: =INDEX(ItemizedBudget14[],MATCH(K22,ItemizedBudget14[Spending Category],0),2) -> Monthly | K22: {=INDEX(ItemizedBudget14[Spending Category], MATCH(0, COUNTIF($K$19:K21,ItemizedBudget14[Spending Category]), 0))} -> Insurance | L22: =SUMIFS(ItemizedBudget14[Expenditures],ItemizedBudget14[Spending Category],K22) -> 194.71 | M22: =SUMIFS(ItemizedBudget14[Income],ItemizedBudget14[Spending Category],K22) -> 0 | N22: =IF(J22="Monthly",12*L22,L22) -> 2336.52 | O22: =IF(J22="Monthly",12*M22,M22) -> 0
B23: Consistent | C23: Monthly | D23: All | E23: Miscellaneous | F23: Miscellaneous | G23: 350 | J23: =INDEX(ItemizedBudget14[],MATCH(K23,ItemizedBudget14[Spending Category],0),2) -> Monthly | K23: {=INDEX(ItemizedBudget14[Spending Category], MATCH(0, COUNTIF($K$19:K22,ItemizedBudget14[Spending Category]), 0))} -> Gas | L23: =SUMIFS(ItemizedBudget14[Expenditures],ItemizedBudget14[Spending Category],K23) -> 175 | M23: =SUMIFS(ItemizedBudget14[Income],ItemizedBudget14[Spending Category],K23) -> 0 | N23: =IF(J23="Monthly",12*L23,L23) -> 2100 | O23: =IF(J23="Monthly",12*M23,M23) -> 0
B24: Consistent | C24: Monthly | D24: All | E24: Mortgage 50 Morrison | F24: Mortgage | G24: 4450 | J24: =INDEX(ItemizedBudget14[],MATCH(K24,ItemizedBudget14[Spending Category],0),2) -> Monthly | K24: {=INDEX(ItemizedBudget14[Spending Category], MATCH(0, COUNTIF($K$19:K23,ItemizedBudget14[Spending Category]), 0))} -> Groceries | L24: =SUMIFS(ItemizedBudget14[Expenditures],ItemizedBudget14[Spending Category],K24) -> 600 | M24: =SUMIFS(ItemizedBudget14[Income],ItemizedBudget14[Spending Category],K24) -> 0 | N24: =IF(J24="Monthly",12*L24,L24) -> 7200 | O24: =IF(J24="Monthly",12*M24,M24) -> 0
B25: Consistent | C25: Monthly | D25: All | E25: Phone Bill | F25: Phone | G25: 60 | J25: =INDEX(ItemizedBudget14[],MATCH(K25,ItemizedBudget14[Spending Category],0),2) -> Monthly | K25: {=INDEX(ItemizedBudget14[Spending Category], MATCH(0, COUNTIF($K$19:K24,ItemizedBudget14[Spending Category]), 0))} -> Health | L25: =SUMIFS(ItemizedBudget14[Expenditures],ItemizedBudget14[Spending Category],K25) -> 1537.5 | M25: =SUMIFS(ItemizedBudget14[Income],ItemizedBudget14[Spending Category],K25) -> 0 | N25: =IF(J25="Monthly",12*L25,L25) -> 18450 | O25: =IF(J25="Monthly",12*M25,M25) -> 0
B26: Consistent | C26: Monthly | D26: All | E26: Restaurant | F26: Restaurant | G26: 400 | J26: =INDEX(ItemizedBudget14[],MATCH(K26,ItemizedBudget14[Spending Category],0),2) -> Monthly | K26: {=INDEX(ItemizedBudget14[Spending Category], MATCH(0, COUNTIF($K$19:K25,ItemizedBudget14[Spending Category]), 0))} -> Pest | L26: =SUMIFS(ItemizedBudget14[Expenditures],ItemizedBudget14[Spending Category],K26) -> 39 | M26: =SUMIFS(ItemizedBudget14[Income],ItemizedBudget14[Spending Category],K26) -> 0 | N26: =IF(J26="Monthly",12*L26,L26) -> 468 | O26: =IF(J26="Monthly",12*M26,M26) -> 0
B27: Consistent | C27: Monthly | D27: All | E27: Clothes & Shoes | F27: Shopping | G27: 200 | J27: =INDEX(ItemizedBudget14[],MATCH(K27,ItemizedBudget14[Spending Category],0),2) -> Monthly | K27: {=INDEX(ItemizedBudget14[Spending Category], MATCH(0, COUNTIF($K$19:K26,ItemizedBudget14[Spending Category]), 0))} -> Miscellaneous | L27: =SUMIFS(ItemizedBudget14[Expenditures],ItemizedBudget14[Spending Category],K27) -> 683 | M27: =SUMIFS(ItemizedBudget14[Income],ItemizedBudget14[Spending Category],K27) -> 0 | N27: =IF(J27="Monthly",12*L27,L27) -> 8196 | O27: =IF(J27="Monthly",12*M27,M27) -> 0
B28: Consistent | C28: Monthly | D28: All | E28: Amazon Subscription | F28: Shopping | G28: =139/12 -> 11.583333 | J28: =INDEX(ItemizedBudget14[],MATCH(K28,ItemizedBudget14[Spending Category],0),2) -> Monthly | K28: {=INDEX(ItemizedBudget14[Spending Category], MATCH(0, COUNTIF($K$19:K27,ItemizedBudget14[Spending Category]), 0))} -> Job Income | L28: =SUMIFS(ItemizedBudget14[Expenditures],ItemizedBudget14[Spending Category],K28) -> 0 | M28: =SUMIFS(ItemizedBudget14[Income],ItemizedBudget14[Spending Category],K28) -> 14200 | N28: =IF(J28="Monthly",12*L28,L28) -> 0 | O28: =IF(J28="Monthly",12*M28,M28) -> 170400
B29: Consistent | C29: Monthly | D29: All | E29: Electric | F29: Utilities | G29: 135 | J29: =INDEX(ItemizedBudget14[],MATCH(K29,ItemizedBudget14[Spending Category],0),2) -> Monthly | K29: {=INDEX(ItemizedBudget14[Spending Category], MATCH(0, COUNTIF($K$19:K28,ItemizedBudget14[Spending Category]), 0))} -> Mortgage | L29: =SUMIFS(ItemizedBudget14[Expenditures],ItemizedBudget14[Spending Category],K29) -> 7550 | M29: =SUMIFS(ItemizedBudget14[Income],ItemizedBudget14[Spending Category],K29) -> 0 | N29: =IF(J29="Monthly",12*L29,L29) -> 90600 | O29: =IF(J29="Monthly",12*M29,M29) -> 0
C30: Monthly | D30: All | E30: Trash | F30: Trash | G30: 35 | J30: =INDEX(ItemizedBudget14[],MATCH(K30,ItemizedBudget14[Spending Category],0),2) -> Monthly | K30: {=INDEX(ItemizedBudget14[Spending Category], MATCH(0, COUNTIF($K$19:K29,ItemizedBudget14[Spending Category]), 0))} -> Phone | L30: =SUMIFS(ItemizedBudget14[Expenditures],ItemizedBudget14[Spending Category],K30) -> 60 | M30: =SUMIFS(ItemizedBudget14[Income],ItemizedBudget14[Spending Category],K30) -> 0 | N30: =IF(J30="Monthly",12*L30,L30) -> 720 | O30: =IF(J30="Monthly",12*M30,M30) -> 0
B31: Inconsistent | C31: Monthly | D31: All | E31: Rent - Incoming | F31: Rent - Incoming | G31: 0 | H31: 4400 | J31: =INDEX(ItemizedBudget14[],MATCH(K31,ItemizedBudget14[Spending Category],0),2) -> Monthly | K31: {=INDEX(ItemizedBudget14[Spending Category], MATCH(0, COUNTIF($K$19:K30,ItemizedBudget14[Spending Category]), 0))} -> Restaurant | L31: =SUMIFS(ItemizedBudget14[Expenditures],ItemizedBudget14[Spending Category],K31) -> 400 | M31: =SUMIFS(ItemizedBudget14[Income],ItemizedBudget14[Spending Category],K31) -> 0 | N31: =IF(J31="Monthly",12*L31,L31) -> 4800 | O31: =IF(J31="Monthly",12*M31,M31) -> 0
B32: Inconsistent | C32: Monthly | D32: All | E32: Mortgage - Colorado | F32: Mortgage | G32: 3100 | J32: =INDEX(ItemizedBudget14[],MATCH(K32,ItemizedBudget14[Spending Category],0),2) -> Monthly | K32: {=INDEX(ItemizedBudget14[Spending Category], MATCH(0, COUNTIF($K$19:K31,ItemizedBudget14[Spending Category]), 0))} -> Shopping | L32: =SUMIFS(ItemizedBudget14[Expenditures],ItemizedBudget14[Spending Category],K32) -> 211.58333 | M32: =SUMIFS(ItemizedBudget14[Income],ItemizedBudget14[Spending Category],K32) -> 0 | N32: =IF(J32="Monthly",12*L32,L32) -> 2539 | O32: =IF(J32="Monthly",12*M32,M32) -> 0
B33: Consistent | C33: One-Time | D33: November | E33: Car Undercoating | F33: Automotive | G33: 250 | J33: =INDEX(ItemizedBudget14[],MATCH(K33,ItemizedBudget14[Spending Category],0),2) -> Monthly | K33: {=INDEX(ItemizedBudget14[Spending Category], MATCH(0, COUNTIF($K$19:K32,ItemizedBudget14[Spending Category]), 0))} -> Utilities | L33: =SUMIFS(ItemizedBudget14[Expenditures],ItemizedBudget14[Spending Category],K33) -> 135 | M33: =SUMIFS(ItemizedBudget14[Income],ItemizedBudget14[Spending Category],K33) -> 0 | N33: =IF(J33="Monthly",12*L33,L33) -> 1620 | O33: =IF(J33="Monthly",12*M33,M33) -> 0
B34: Consistent | C34: One-Time | D34: April | E34: Vet - Charles | F34: Cat | G34: 300 | J34: =INDEX(ItemizedBudget14[],MATCH(K34,ItemizedBudget14[Spending Category],0),2) -> Monthly | K34: {=INDEX(ItemizedBudget14[Spending Category], MATCH(0, COUNTIF($K$19:K33,ItemizedBudget14[Spending Category]), 0))} -> Trash | L34: =SUMIFS(ItemizedBudget14[Expenditures],ItemizedBudget14[Spending Category],K34) -> 35 | M34: =SUMIFS(ItemizedBudget14[Income],ItemizedBudget14[Spending Category],K34) -> 0 | N34: =IF(J34="Monthly",12*L34,L34) -> 420 | O34: =IF(J34="Monthly",12*M34,M34) -> 0
B35: Consistent | C35: One-Time | D35: April | E35: Vet - Luna | F35: Cat | G35: 300 | J35: =INDEX(ItemizedBudget14[],MATCH(K35,ItemizedBudget14[Spending Category],0),2) -> Monthly | K35: {=INDEX(ItemizedBudget14[Spending Category], MATCH(0, COUNTIF($K$19:K34,ItemizedBudget14[Spending Category]), 0))} -> Rent - Incoming | L35: =SUMIFS(ItemizedBudget14[Expenditures],ItemizedBudget14[Spending Category],K35) -> 0 | M35: =SUMIFS(ItemizedBudget14[Income],ItemizedBudget14[Spending Category],K35) -> 4400 | N35: =IF(J35="Monthly",12*L35,L35) -> 0 | O35: =IF(J35="Monthly",12*M35,M35) -> 52800
B36: Consistent | C36: One-Time | D36: March | E36: Vet - Bravecto | F36: Cat | G36: =(58*3)*2 -> 348 | J36: =INDEX(ItemizedBudget14[],MATCH(K36,ItemizedBudget14[Spending Category],0),2) -> One-Time | K36: {=INDEX(ItemizedBudget14[Spending Category], MATCH(0, COUNTIF($K$19:K35,ItemizedBudget14[Spending Category]), 0))} -> Gifts | L36: =SUMIFS(ItemizedBudget14[Expenditures],ItemizedBudget14[Spending Category],K36) -> 550 | M36: =SUMIFS(ItemizedBudget14[Income],ItemizedBudget14[Spending Category],K36) -> 0 | N36: =IF(J36="Monthly",12*L36,L36) -> 550 | O36: =IF(J36="Monthly",12*M36,M36) -> 0
B37: Consistent | C37: One-Time | D37: December | E37: Christmas Expenses | F37: Gifts | G37: 550 | J37: =INDEX(ItemizedBudget14[],MATCH(K37,ItemizedBudget14[Spending Category],0),2) -> One-Time | K37: {=INDEX(ItemizedBudget14[Spending Category], MATCH(0, COUNTIF($K$19:K36,ItemizedBudget14[Spending Category]), 0))} -> Home Maintenance | L37: =SUMIFS(ItemizedBudget14[Expenditures],ItemizedBudget14[Spending Category],K37) -> 7050 | M37: =SUMIFS(ItemizedBudget14[Income],ItemizedBudget14[Spending Category],K37) -> 0 | N37: =IF(J37="Monthly",12*L37,L37) -> 7050 | O37: =IF(J37="Monthly",12*M37,M37) -> 0
B38: Consistent | C38: One-Time | D38: March | E38: Contacts | F38: Health | G38: 1200 | J38: =INDEX(ItemizedBudget14[],MATCH(K38,ItemizedBudget14[Spending Category],0),2) -> One-Time | K38: {=INDEX(ItemizedBudget14[Spending Category], MATCH(0, COUNTIF($K$19:K37,ItemizedBudget14[Spending Category]), 0))} -> Tax Refund | L38: =SUMIFS(ItemizedBudget14[Expenditures],ItemizedBudget14[Spending Category],K38) -> 0 | M38: =SUMIFS(ItemizedBudget14[Income],ItemizedBudget14[Spending Category],K38) -> 5000 | N38: =IF(J38="Monthly",12*L38,L38) -> 0 | O38: =IF(J38="Monthly",12*M38,M38) -> 5000
B39: Consistent | C39: One-Time | D39: April | E39: Mulch | F39: Home Maintenance | G39: 300 | J39: =INDEX(ItemizedBudget14[],MATCH(K39,ItemizedBudget14[Spending Category],0),2) -> One-Time | K39: {=INDEX(ItemizedBudget14[Spending Category], MATCH(0, COUNTIF($K$19:K38,ItemizedBudget14[Spending Category]), 0))} -> Vacation | L39: =SUMIFS(ItemizedBudget14[Expenditures],ItemizedBudget14[Spending Category],K39) -> 1500 | M39: =SUMIFS(ItemizedBudget14[Income],ItemizedBudget14[Spending Category],K39) -> 0 | N39: =IF(J39="Monthly",12*L39,L39) -> 1500 | O39: =IF(J39="Monthly",12*M39,M39) -> 0
B40: Inconsistent | C40: One-Time | D40: April | E40: Taxes | F40: Tax Refund | H40: 5000
B41: Inconsistent | C41: One-Time | D41: June | E41: Vacation | F41: Vacation | G41: 1500
...

Sheet 2027 Budget
C2: Sara working 100%, no kids yet, cheaper mortgage | N2: =SUM(N5:N11)+SUM(O12:O16) -> 52850 | O2: =N2/12 -> 4404.1667
B3: Expense & Income Table | J3: 2025 Summary
B4: Type | C4: Frequency | D4: Planned Month | E4: Item | F4: Spending Category | G4: Expenditures | H4: Income | J4: Month | K4: Monthly Income | L4: One-Time Income | M4: Monthly Expenses | N4: Monthly Mortgage Expenses | O4: One-Time Rent Expense | P4: Monthly Non-Housing Expenses | Q4: One-Time Expenses | R4: Remaining
B5: Consistent | C5: Monthly | D5: All | E5: Amazon Subscription | F5: Shopping | G5: =139/12 -> 11.583333 | J5: January | K5: =SUMIFS(ItemizedBudget1424[Income],ItemizedBudget1424[Frequency],"Monthly",ItemizedBudget1424[Planned Month],"All") -> 10598.833 | L5: =SUMIFS(ItemizedBudget1424[Income],ItemizedBudget1424[Frequency],"One-Time",ItemizedBudget1424[Planned Month],J5) -> 7741.5 | M5: =SUMIFS(ItemizedBudget1424[Expenditures],ItemizedBudget1424[Frequency],"Monthly",ItemizedBudget1424[Planned Month],"All") -> 11505.793 | N5: =SUMIFS(ItemizedBudget1424[Expenditures],ItemizedBudget1424[Spending Category],"Mortgage") -> 7550 | O5: =SUMIFS(ItemizedBudget1424[Expenditures],ItemizedBudget1424[Spending Category],"Rent - Outgoing",ItemizedBudget1424[Planned Month],J5) -> 0 | P5: =M5-(N5+O5) -> 3955.7933 | Q5: =SUMIFS(ItemizedBudget1424[Expenditures],ItemizedBudget1424[Frequency],"One-Time",ItemizedBudget1424[Planned Month],J5) -> 1500 | R5: =(K5+L5)-(M5+Q5+O5) -> 5334.54
C6: Monthly | D6: All | E6: Baby Formula | F6: Baby | G6: 400 | J6: February | K6: =SUMIFS(ItemizedBudget1424[Income],ItemizedBudget1424[Frequency],"Monthly",ItemizedBudget1424[Planned Month],"All") -> 10598.833 | L6: =SUMIFS(ItemizedBudget1424[Income],ItemizedBudget1424[Frequency],"One-Time",ItemizedBudget1424[Planned Month],J6) -> 7741.5 | M6: =SUMIFS(ItemizedBudget1424[Expenditures],ItemizedBudget1424[Frequency],"Monthly",ItemizedBudget1424[Planned Month],"All") -> 11505.793 | N6: =SUMIFS(ItemizedBudget1424[Expenditures],ItemizedBudget1424[Spending Category],"Mortgage") -> 7550 | O6: =SUMIFS(ItemizedBudget1424[Expenditures],ItemizedBudget1424[Spending Category],"Rent - Outgoing",ItemizedBudget1424[Planned Month],J6) -> 0 | P6: =M6-(N6+O6) -> 3955.7933 | Q6: =SUMIFS(ItemizedBudget1424[Expenditures],ItemizedBudget1424[Frequency],"One-Time",ItemizedBudget1424[Planned Month],J6) -> 0 | R6: =(K6+L6)-(M6+Q6+O6) -> 6834.54 | T6: =SUMIFS(ItemizedBudget1424[Expenditures],ItemizedBudget1424[Item],"Rent: Outgoing",ItemizedBudget1424[Item],"Mortgage 50 Morrison",ItemizedBudget1424[Planned Month],J5) -> 0
B7: Consistent | C7: Monthly | D7: All | E7: Car Insurance & Umbrella | F7: Insurance | G7: 194.71 | J7: March | K7: =SUMIFS(ItemizedBudget1424[Income],ItemizedBudget1424[Frequency],"Monthly",ItemizedBudget1424[Planned Month],"All") -> 10598.833 | L7: =SUMIFS(ItemizedBudget1424[Income],ItemizedBudget1424[Frequency],"One-Time",ItemizedBudget1424[Planned Month],J7) -> 7741.5 | M7: =SUMIFS(ItemizedBudget1424[Expenditures],ItemizedBudget1424[Frequency],"Monthly",ItemizedBudget1424[Planned Month],"All") -> 11505.793 | N7: =SUMIFS(ItemizedBudget1424[Expenditures],ItemizedBudget1424[Spending Category],"Mortgage") -> 7550 | O7: =SUMIFS(ItemizedBudget1424[Expenditures],ItemizedBudget1424[Spending Category],"Rent - Outgoing",ItemizedBudget1424[Planned Month],J7) -> 0 | P7: =M7-(N7+O7) -> 3955.7933 | Q7: =SUMIFS(ItemizedBudget1424[Expenditures],ItemizedBudget1424[Frequency],"One-Time",ItemizedBudget1424[Planned Month],J7) -> 1548 | R7: =(K7+L7)-(M7+Q7+O7) -> 5286.54
B8: Consistent | C8: Monthly | D8: All | E8: Car Maintenance | F8: Automotive | G8: 100 | J8: April | K8: =SUMIFS(ItemizedBudget1424[Income],ItemizedBudget1424[Frequency],"Monthly",ItemizedBudget1424[Planned Month],"All") -> 10598.833 | L8: =SUMIFS(ItemizedBudget1424[Income],ItemizedBudget1424[Frequency],"One-Time",ItemizedBudget1424[Planned Month],J8) -> 7741.5 | M8: =SUMIFS(ItemizedBudget1424[Expenditures],ItemizedBudget1424[Frequency],"Monthly",ItemizedBudget1424[Planned Month],"All") -> 11505.793 | N8: =SUMIFS(ItemizedBudget1424[Expenditures],ItemizedBudget1424[Spending Category],"Mortgage") -> 7550 | O8: =SUMIFS(ItemizedBudget1424[Expenditures],ItemizedBudget1424[Spending Category],"Rent - Outgoing",ItemizedBudget1424[Planned Month],J8) -> 0 | P8: =M8-(N8+O8) -> 3955.7933 | Q8: =SUMIFS(ItemizedBudget1424[Expenditures],ItemizedBudget1424[Frequency],"One-Time",ItemizedBudget1424[Planned Month],J8) -> 3900 | R8: =(K8+L8)-(M8+Q8+O8) -> 2934.54
B9: Consistent | C9: Monthly | D9: All | E9: Cat Food | F9: Cat | G9: 100 | J9: May | K9: =SUMIFS(ItemizedBudget1424[Income],ItemizedBudget1424[Frequency],"Monthly",ItemizedBudget1424[Planned Month],"All") -> 10598.833 | L9: =SUMIFS(ItemizedBudget1424[Income],ItemizedBudget1424[Frequency],"One-Time",ItemizedBudget1424[Planned Month],J9) -> 7741.5 | M9: =SUMIFS(ItemizedBudget1424[Expenditures],ItemizedBudget1424[Frequency],"Monthly",ItemizedBudget1424[Planned Month],"All") -> 11505.793 | N9: =SUMIFS(ItemizedBudget1424[Expenditures],ItemizedBudget1424[Spending Category],"Mortgage") -> 7550 | O9: =SUMIFS(ItemizedBudget1424[Expenditures],ItemizedBudget1424[Spending Category],"Rent - Outgoing",ItemizedBudget1424[Planned Month],J9) -> 0 | P9: =M9-(N9+O9) -> 3955.7933 | Q9: =SUMIFS(ItemizedBudget1424[Expenditures],ItemizedBudget1424[Frequency],"One-Time",ItemizedBudget1424[Planned Month],J9) -> 0 | R9: =(K9+L9)-(M9+Q9+O9) -> 6834.54
B10: Consistent | C10: Monthly | D10: All | E10: Cat Litter | F10: Cat | G10: 25 | J10: June | K10: =SUMIFS(ItemizedBudget1424[Income],ItemizedBudget1424[Frequency],"Monthly",ItemizedBudget1424[Planned Month],"All") -> 10598.833 | L10: =SUMIFS(ItemizedBudget1424[Income],ItemizedBudget1424[Frequency],"One-Time",ItemizedBudget1424[Planned Month],J10) -> 7741.5 | M10: =SUMIFS(ItemizedBudget1424[Expenditures],ItemizedBudget1424[Frequency],"Monthly",ItemizedBudget1424[Planned Month],"All") -> 11505.793 | N10: =SUMIFS(ItemizedBudget1424[Expenditures],ItemizedBudget1424[Spending Category],"Mortgage") -> 7550 | O10: =SUMIFS(ItemizedBudget1424[Expenditures],ItemizedBudget1424[Spending Category],"Rent - Outgoing",ItemizedBudget1424[Planned Month],J10) -> 0 | P10: =M10-(N10+O10) -> 3955.7933 | Q10: =SUMIFS(ItemizedBudget1424[Expenditures],ItemizedBudget1424[Frequency],"One-Time",ItemizedBudget1424[Planned Month],J10) -> 4500 | R10: =(K10+L10)-(M10+Q10+O10) -> 2334.54
C11: Monthly | D11: All | E11: Child Clothing | F11: Baby | G11: 200 | J11: July | K11: =SUMIFS(ItemizedBudget1424[Income],ItemizedBudget1424[Frequency],"Monthly",ItemizedBudget1424[Planned Month],"All") -> 10598.833 | L11: =SUMIFS(ItemizedBudget1424[Income],ItemizedBudget1424[Frequency],"One-Time",ItemizedBudget1424[Planned Month],J11) -> 7741.5 | M11: =SUMIFS(ItemizedBudget1424[Expenditures],ItemizedBudget1424[Frequency],"Monthly",ItemizedBudget1424[Planned Month],"All") -> 11505.793 | N11: =SUMIFS(ItemizedBudget1424[Expenditures],ItemizedBudget1424[Spending Category],"Mortgage") -> 7550 | O11: =SUMIFS(ItemizedBudget1424[Expenditures],ItemizedBudget1424[Spending Category],"Rent - Outgoing",ItemizedBudget1424[Planned Month],J11) -> 0 | P11: =M11-(N11+O11) -> 3955.7933 | Q11: =SUMIFS(ItemizedBudget1424[Expenditures],ItemizedBudget1424[Frequency],"One-Time",ItemizedBudget1424[Planned Month],J11) -> 0 | R11: =(K11+L11)-(M11+Q11+O11) -> 6834.54
